BEGIN:VCALENDAR
VERSION:2.0
PRODID:-//ChamberMaster//Event Calendar 2.0//EN
METHOD:PUBLISH
X-PUBLISHED-TTL:P3D
REFRESH-INTERVAL:P3D
CALSCALE:GREGORIAN
BEGIN:VEVENT
DTSTART:20140311T204500Z
DTEND:20140311T221500Z
X-MICROSOFT-CDO-ALLDAYEVENT:FALSE
SUMMARY:In-Depth Review of Indonesia's Energy Policies with the International Energy Agency
DESCRIPTION:The IEA is conducting a peer review of Indonesia's energy policies. The IEA team will hold discussions with all stakeholders in Indonesia and on this basis provide recommendations for Indonesia's future energy policy.\n\nThe meetings will be sector focused.\n\n \n\nThe first sector-focused meeting is for the Oil and Gas Industry and is scheduled to take place on Tuesday\, March 11\, from 4:45pm   6:15pm. All major private sector players on oil & gas (upstream and downstream) issues are invited to participate.\n\n \n\nTarget participants are senior management and high-level technical experts as the team will have in-depth questions on issues where participants will require the necessary clearance to go into details. Representatives from the Indonesian Petroleum Association (IPA) will also be invited. All discussions are according to Chatham House rules meaning no participant's statements will be mentioned by name or quoted.\n\n \n\n\n\nAnother meeting will be planned on electricity issues with the industry- more details to follow. \n\n\n\nPlease refer to the first in-depth review for Indonesia for more details.
X-ALT-DESC;FMTTYPE=text/html:<span style="font-size: 14px\;"><span style="font-family: arial\;">The IEA is conducting a peer review of Indonesia&rsquo\;s energy policies. The IEA team will hold discussions with all stakeholders in Indonesia and on this basis provide recommendations for Indonesia&rsquo\;s future energy policy.<br />\nThe meetings will be sector focused.<br />\n&nbsp\;<br />\nThe first sector-focused meeting is for the Oil and Gas Industry and is scheduled to take place on Tuesday\, March 11\, from 4:45pm &ndash\; 6:15pm. All major private sector players on oil &amp\; gas (upstream and downstream) issues are invited to participate.<br />\n&nbsp\;<br />\nTarget participants are senior management and high-level technical experts as the team will have in-depth questions on issues where participants will require the necessary clearance to go into details. Representatives from the Indonesian Petroleum Association (IPA) will also be invited.&nbsp\;All discussions are according to Chatham House rules meaning no participant&rsquo\;s statements will be mentioned by name or quoted.<br />\n&nbsp\;<br />\n<br />\nAnother meeting will be planned on electricity issues with the industry- more details to follow.&nbsp\;</span><br />\n<br />\n<span style="font-family: calibri\,sans-serif\;"><span style="font-family: arial\;">Please refer to the </span></span><span style="font-family: arial\;"><a href="http://www.iea.org/publications/freepublications/publication/name\,15765\,en.html">first in-depth review for Indonesia</a>&nbsp\;for more details.&nbsp\;</span></span><br />\n<br />\n&nbsp\;
LOCATION:Jakarta\, Indonesia Venue TBD- more details to follow
UID:e.9078.1025
SEQUENCE:3
DTSTAMP:20260420T172111Z
URL:http://memberzone.usasean.org/events/details/in-depth-review-of-indonesia-s-energy-policies-with-the-international-energy-agency-03-11-2014-1025
END:VEVENT

END:VCALENDAR
