BEGIN:VCALENDAR
VERSION:2.0
PRODID:-//ChamberMaster//Event Calendar 2.0//EN
METHOD:PUBLISH
X-PUBLISHED-TTL:P3D
REFRESH-INTERVAL:P3D
CALSCALE:GREGORIAN
BEGIN:VEVENT
DTSTART:20180124T020000Z
DTEND:20180124T030000Z
X-MICROSOFT-CDO-ALLDAYEVENT:FALSE
SUMMARY:ICT Committee Quarterly Call
DESCRIPTION:Please join us for the first ICT Committee Quarterly Call of 2018. During the call we will review the 2018 Work Plan and discuss the Committee's priorities and upcoming opportunities for the year. If you have any questions\, would like to suggest an item to be discussed on the call\, or have any input for the 2018 Work Plan\, please contact Ella Duangkaew at eduangkaew@usasean.org.
X-ALT-DESC;FMTTYPE=text/html:<span style="font-family: &quot\;Arial&quot\;\,sans-serif\; font-size: 12pt\; mso-fareast-font-family: &quot\;Times New Roman&quot\;\; mso-ansi-language: EN-US\; mso-fareast-language: EN-US\; mso-bidi-language: AR-SA\;"><font color="#000000">Please join us for the first ICT Committee Quarterly Call of 2018. During the call we will review the 2018 Work Plan and discuss the Committee&#39\;s priorities and upcoming opportunities for the year.</font><font color="#000000">&nbsp\;If you have any questions\, would like to suggest an item to be discussed on the call\, or have any input for the 2018 Work Plan\, please contact Ella Duangkaew at <a href="mailto:eduangkaew@usasean.org">eduangkaew@usasean.org</a>. </font></span>
LOCATION:Dial in details will be provided to participants ahead of the call.
UID:e.9078.6452
SEQUENCE:3
DTSTAMP:20260419T144047Z
URL:http://memberzone.usasean.org/events/details/ict-committee-quarterly-call-01-23-2018-6452
END:VEVENT

END:VCALENDAR
