BEGIN:VCALENDAR
VERSION:2.0
PRODID:-//ChamberMaster//Event Calendar 2.0//EN
METHOD:PUBLISH
X-PUBLISHED-TTL:P3D
REFRESH-INTERVAL:P3D
CALSCALE:GREGORIAN
BEGIN:VEVENT
DTSTART:20190517T013000Z
DTEND:20190517T023000Z
X-MICROSOFT-CDO-ALLDAYEVENT:FALSE
SUMMARY:ICT Committee Call to Discuss ASEAN Digital Innovation Forum
DESCRIPTION:The Council is pleased to invite members to join this call to discuss potential topics and messaging for the ASEAN Digital Innovation Forum (the "Forum"). The Council has been invited to provide input on the topics of the Forum by the Ministry of Information and Communications (MIC) of Vietnam\, who will co-organize the Forum with Singapore's Infocomm Media and Development Authority (IMDA). MIC is requesting input from the Council by May 21\, and the outcomes of this call will be shared with MIC by that deadline. \n\n\n\nPlease contact Ella Duangkaew (eduangkaew@usasean.org) or Jamie Lim (jlim@usasean.org) with any questions prior to the call. \n\n\n\nBackground\n\n\n\nThe ASEAN Digital Innovation Forum is one of the four initiatives under the ASEAN Framework on Digital Data Governance (found here)\, intended to support the third strategic priority of the Framework: Digitalization and Emerging Technologies. According to the Framework\, the Forum "should function as an avenue for effective dissemination of information on emerging digital trends and the relevant regulatory issues. Such forums can also include hands-on workshops for participants to experiment with the latest technological solutions\, and to motivate them to adopt new technologies. Ideally\, these forums would encourage collaboration between technology firms and other private and public sector organisations\, promote data-driven innovation and improve awareness on key issues such as cybersecurity in ASEAN." For more information\, see the full Framework here. \n\n\n\nThe first Forum will be held in September in Hanoi\, and will be co-organized by Vietnam's MIC and Singapore's IMDA. The Council will help MIC and IMDA shape the topics of this Forum.
X-ALT-DESC;FMTTYPE=text/html:The Council is pleased to invite members to join this call&nbsp\;to discuss potential topics and messaging for the ASEAN Digital Innovation Forum (the &quot\;Forum&quot\;). The Council has been invited to provide input on the topics of the Forum by the Ministry of Information and Communications (MIC) of Vietnam\, who will co-organize the Forum with Singapore&#39\;s Infocomm Media and Development Authority (IMDA). MIC is requesting input from the Council by&nbsp\;<strong>May 21</strong>\, and the outcomes of this call will be shared with MIC by that deadline.&nbsp\;<br />\n<br />\nPlease contact Ella Duangkaew (eduangkaew@usasean.org) or Jamie Lim (jlim@usasean.org) with any questions prior to the call.&nbsp\;<br />\n<br />\n<strong><u>Background</u></strong><br />\n<br />\nThe ASEAN Digital Innovation Forum is one of the four initiatives under the ASEAN Framework on Digital Data Governance (found here)\, intended to support the third strategic priority of the Framework: Digitalization and Emerging Technologies. According to the Framework\, the Forum &quot\;should function as an avenue for effective dissemination of information on emerging digital trends and the relevant regulatory issues. Such forums can also include hands-on workshops for participants to experiment with the latest technological solutions\, and to motivate them to adopt new technologies. Ideally\, these forums would encourage collaboration between technology firms and other private and public sector organisations\, promote data-driven innovation and improve awareness on key issues such as cybersecurity in ASEAN.&quot\; For more information\, see the full Framework <a href="https://asean.org/storage/2012/05/6B-ASEAN-Framework-on-Digital-Data-Governance_Endorsed.pdf">here</a>.&nbsp\;<br />\n<br />\nThe first Forum will be held in September in Hanoi\, and will be co-organized by Vietnam&#39\;s MIC and Singapore&#39\;s IMDA. The Council will help MIC and IMDA shape the topics of this Forum.&nbsp\;
LOCATION:Dial-In Details
UID:e.9078.7891
SEQUENCE:3
DTSTAMP:20260422T025928Z
URL:http://memberzone.usasean.org/events/details/ict-committee-call-to-discuss-asean-digital-innovation-forum-7891
END:VEVENT

END:VCALENDAR
