BEGIN:VCALENDAR
VERSION:2.0
PRODID:-//ChamberMaster//Event Calendar 2.0//EN
METHOD:PUBLISH
X-PUBLISHED-TTL:P3D
REFRESH-INTERVAL:P3D
CALSCALE:GREGORIAN
BEGIN:VEVENT
DTSTART;VALUE=DATE:20150307
DTEND;VALUE=DATE:20150308
TRANSP:TRANSPARENT
X-MICROSOFT-CDO-ALLDAYEVENT:TRUE
SUMMARY:Holiday: Tabaung Full Moon (Myanmar)
DESCRIPTION:
X-ALT-DESC;FMTTYPE=text/html:
LOCATION:
UID:e.9078.1370
SEQUENCE:3
DTSTAMP:20260419T184759Z
URL:http://memberzone.usasean.org/events/details/holiday-tabaung-full-moon-myanmar-03-07-2015-1370
END:VEVENT

END:VCALENDAR
