BEGIN:VCALENDAR
VERSION:2.0
PRODID:-//ChamberMaster//Event Calendar 2.0//EN
METHOD:PUBLISH
X-PUBLISHED-TTL:P3D
REFRESH-INTERVAL:P3D
CALSCALE:GREGORIAN
BEGIN:VEVENT
DTSTART;VALUE=DATE:20150219
DTEND;VALUE=DATE:20150220
TRANSP:TRANSPARENT
X-MICROSOFT-CDO-ALLDAYEVENT:TRUE
SUMMARY:Holiday: Lunar New Year (Year of the Goat)
DESCRIPTION:
X-ALT-DESC;FMTTYPE=text/html:
LOCATION:
UID:e.9078.1365
SEQUENCE:3
DTSTAMP:20260419T203811Z
URL:http://memberzone.usasean.org/events/details/holiday-lunar-new-year-year-of-the-goat-02-19-2015-1365
END:VEVENT

END:VCALENDAR
