BEGIN:VCALENDAR
VERSION:2.0
PRODID:-//ChamberMaster//Event Calendar 2.0//EN
METHOD:PUBLISH
X-PUBLISHED-TTL:P3D
REFRESH-INTERVAL:P3D
CALSCALE:GREGORIAN
BEGIN:VEVENT
DTSTART;VALUE=DATE:20150428
DTEND;VALUE=DATE:20150429
TRANSP:TRANSPARENT
X-MICROSOFT-CDO-ALLDAYEVENT:TRUE
SUMMARY:Holiday: Hung King Festival (Vietnam)
DESCRIPTION:
X-ALT-DESC;FMTTYPE=text/html:
LOCATION:
UID:e.9078.1391
SEQUENCE:3
DTSTAMP:20260419T170929Z
URL:http://memberzone.usasean.org/events/details/holiday-hung-king-festival-vietnam-04-28-2015-1391
END:VEVENT

END:VCALENDAR
