BEGIN:VCALENDAR
VERSION:2.0
PRODID:-//ChamberMaster//Event Calendar 2.0//EN
METHOD:PUBLISH
X-PUBLISHED-TTL:P3D
REFRESH-INTERVAL:P3D
CALSCALE:GREGORIAN
BEGIN:VEVENT
DTSTART;VALUE=DATE:20150409
DTEND;VALUE=DATE:20150410
TRANSP:TRANSPARENT
X-MICROSOFT-CDO-ALLDAYEVENT:TRUE
SUMMARY:Holiday: Araw ng Kagitingan (Philippines)
DESCRIPTION:
X-ALT-DESC;FMTTYPE=text/html:
LOCATION:
UID:e.9078.1385
SEQUENCE:3
DTSTAMP:20260419T172641Z
URL:http://memberzone.usasean.org/events/details/holiday-araw-ng-kagitingan-philippines-04-09-2015-1385
END:VEVENT

END:VCALENDAR
