BEGIN:VCALENDAR
VERSION:2.0
PRODID:-//ChamberMaster//Event Calendar 2.0//EN
METHOD:PUBLISH
X-PUBLISHED-TTL:P3D
REFRESH-INTERVAL:P3D
CALSCALE:GREGORIAN
BEGIN:VEVENT
DTSTART:20210917T003000Z
DTEND:20210917T020000Z
X-MICROSOFT-CDO-ALLDAYEVENT:FALSE
SUMMARY:HLS Quarter 3 Committee Call
DESCRIPTION:Health & Life Sciences\, Quarter 3 Call
X-ALT-DESC;FMTTYPE=text/html:Health &amp\; Life Sciences\, Quarter 3 Call
LOCATION:
UID:e.9078.8552
SEQUENCE:3
DTSTAMP:20260419T142022Z
URL:http://memberzone.usasean.org/events/details/hls-quarter-3-committee-call-8552
END:VEVENT

END:VCALENDAR
