BEGIN:VCALENDAR
VERSION:2.0
PRODID:-//ChamberMaster//Event Calendar 2.0//EN
METHOD:PUBLISH
X-PUBLISHED-TTL:P3D
REFRESH-INTERVAL:P3D
CALSCALE:GREGORIAN
BEGIN:VEVENT
DTSTART:20210311T003000Z
DTEND:20210311T020000Z
X-MICROSOFT-CDO-ALLDAYEVENT:FALSE
SUMMARY:HLS Q1 Committee Call
DESCRIPTION:Health & Life Sciences Quarter 1 Committee Call\n\nThursday March 11\, 8:30-10:00 AM SGT\n\nPlease contact Hai Pham (hpham@usasean.org) with any questions.
X-ALT-DESC;FMTTYPE=text/html:Health &amp\; Life Sciences Quarter 1 Committee Call<br />\nThursday March 11\, 8:30-10:00 AM SGT<br />\nPlease contact Hai Pham (hpham@usasean.org) with any questions.
LOCATION:Zoom details to be provided upon registration.
UID:e.9078.8406
SEQUENCE:3
DTSTAMP:20260420T015700Z
URL:http://memberzone.usasean.org/events/details/hls-q1-committee-call-8406
END:VEVENT

END:VCALENDAR
