BEGIN:VCALENDAR
VERSION:2.0
PRODID:-//ChamberMaster//Event Calendar 2.0//EN
METHOD:PUBLISH
X-PUBLISHED-TTL:P3D
REFRESH-INTERVAL:P3D
CALSCALE:GREGORIAN
BEGIN:VEVENT
DTSTART:20210831T010000Z
DTEND:20210831T020000Z
X-MICROSOFT-CDO-ALLDAYEVENT:FALSE
SUMMARY:HLS NCD Cluster Call to Discuss VNCI Proposal
DESCRIPTION:Call to discuss VNCI proposal for development of a standalone National Cancer Control Plan in Vietnam.
X-ALT-DESC;FMTTYPE=text/html:Call to discuss VNCI proposal for development of a standalone National Cancer Control Plan in Vietnam.
LOCATION:Zoom details to be provided for registered attendees.
UID:e.9078.8551
SEQUENCE:3
DTSTAMP:20260419T155816Z
URL:http://memberzone.usasean.org/events/details/hls-ncd-cluster-call-to-discuss-vnci-proposal-8551
END:VEVENT

END:VCALENDAR
