BEGIN:VCALENDAR
VERSION:2.0
PRODID:-//ChamberMaster//Event Calendar 2.0//EN
METHOD:PUBLISH
X-PUBLISHED-TTL:P3D
REFRESH-INTERVAL:P3D
CALSCALE:GREGORIAN
BEGIN:VEVENT
DTSTART:20200812T010000Z
DTEND:20200812T020000Z
X-MICROSOFT-CDO-ALLDAYEVENT:FALSE
SUMMARY:HLS COVID-19 Subgroup Meeting
DESCRIPTION:Meeting of the HLS COVID-19 Subgroup.
X-ALT-DESC;FMTTYPE=text/html:Meeting of the HLS COVID-19 Subgroup.
LOCATION:Dial in details sent to registered participants
UID:e.9078.8268
SEQUENCE:3
DTSTAMP:20260420T111258Z
URL:http://memberzone.usasean.org/events/details/hls-covid-19-subgroup-meeting-8268
END:VEVENT

END:VCALENDAR
