BEGIN:VCALENDAR
VERSION:2.0
PRODID:-//ChamberMaster//Event Calendar 2.0//EN
METHOD:PUBLISH
X-PUBLISHED-TTL:P3D
REFRESH-INTERVAL:P3D
CALSCALE:GREGORIAN
BEGIN:VEVENT
DTSTART;VALUE=DATE:20120509
DTEND;VALUE=DATE:20120510
TRANSP:TRANSPARENT
X-MICROSOFT-CDO-ALLDAYEVENT:TRUE
SUMMARY:HLS Con Call: Stakeholder Engagement Forum with Ministry of Health\, Indonesia - May 9 2012
DESCRIPTION:
X-ALT-DESC;FMTTYPE=text/html:
LOCATION:
UID:e.9078.400
SEQUENCE:3
DTSTAMP:20260425T022117Z
URL:http://memberzone.usasean.org/events/details/hls-con-call-stakeholder-engagement-forum-with-ministry-of-health-indonesia-may-9-2012-05-09-2012-400
END:VEVENT

END:VCALENDAR
