BEGIN:VCALENDAR
VERSION:2.0
PRODID:-//ChamberMaster//Event Calendar 2.0//EN
METHOD:PUBLISH
X-PUBLISHED-TTL:P3D
REFRESH-INTERVAL:P3D
CALSCALE:GREGORIAN
BEGIN:VEVENT
DTSTART:20150318T010000Z
DTEND:20150318T020000Z
X-MICROSOFT-CDO-ALLDAYEVENT:FALSE
SUMMARY:HLS Committee Breakfast Meeting with Dr. Leslie Mancuso (Bangkok)
DESCRIPTION:All US-ASEAN Business Council members are cordially invited to attend Jhpiego's Mini-University\, a one-day technical update on global health and a commitment to ending preventable child and maternal death. The Mini-University will be held in Bangkok\, Thailand\, during Jhpiego's annual meeting\, which will be attended by Jhpiego staff from nearly 40 countries around the globe.
X-ALT-DESC;FMTTYPE=text/html:All US-ASEAN Business Council members are cordially invited to attend Jhpiego&rsquo\;s Mini-University\, a one-day technical update on global health and a commitment to ending preventable child and maternal death. The Mini-University will be held in Bangkok\, Thailand\, during Jhpiego&rsquo\;s annual meeting\, which will be attended by Jhpiego staff from nearly 40 countries around the globe.
LOCATION:Bangkok
UID:e.9078.1501
SEQUENCE:3
DTSTAMP:20260419T185749Z
URL:http://memberzone.usasean.org/events/details/hls-committee-breakfast-meeting-with-dr-leslie-mancuso-bangkok-03-18-2015-1501
END:VEVENT

END:VCALENDAR
