BEGIN:VCALENDAR
VERSION:2.0
PRODID:-//ChamberMaster//Event Calendar 2.0//EN
METHOD:PUBLISH
X-PUBLISHED-TTL:P3D
REFRESH-INTERVAL:P3D
CALSCALE:GREGORIAN
BEGIN:VEVENT
DTSTART:20140128T020000Z
DTEND:20140128T030000Z
X-MICROSOFT-CDO-ALLDAYEVENT:FALSE
SUMMARY:Health & Life Sciences Committee Quarterly Conference Call - Jan 2014
DESCRIPTION:Please join us to discuss the Health & Life Sciences Committee's messaging\, priorities\, and programs for 2014.
X-ALT-DESC;FMTTYPE=text/html:<span style="font-family:georgia\,serif\;"><span style="font-size:12.0pt\;">Please join us to discuss the Health &amp\; Life Sciences Committee&#39\;s messaging\, priorities\, and programs for 2014.</span></span>
LOCATION:Conference call details will be distributed to registrants prior to the call.
UID:e.9078.1018
SEQUENCE:3
DTSTAMP:20260421T060619Z
URL:http://memberzone.usasean.org/events/details/health-life-sciences-committee-quarterly-conference-call-jan-2014-1018
END:VEVENT

END:VCALENDAR
