BEGIN:VCALENDAR
VERSION:2.0
PRODID:-//ChamberMaster//Event Calendar 2.0//EN
METHOD:PUBLISH
X-PUBLISHED-TTL:P3D
REFRESH-INTERVAL:P3D
CALSCALE:GREGORIAN
BEGIN:VEVENT
DTSTART:20150129T123000Z
DTEND:20150129T133000Z
X-MICROSOFT-CDO-ALLDAYEVENT:FALSE
SUMMARY:Health & Life Sciences Committee Quarterly Call - Jan 2015
DESCRIPTION:Please join us to discuss the Health & Life Sciences Committee's messaging\, priorities\, and programs for 2015.
X-ALT-DESC;FMTTYPE=text/html:Please join us to discuss the Health &amp\; Life Sciences Committee&#39\;s messaging\, priorities\, and programs for 2015.
LOCATION:Conference call - details will be sent to registrants prior to the call.
UID:e.9078.1341
SEQUENCE:3
DTSTAMP:20260419T222115Z
URL:http://memberzone.usasean.org/events/details/health-life-sciences-committee-quarterly-call-jan-2015-1341
END:VEVENT

END:VCALENDAR
