BEGIN:VCALENDAR
VERSION:2.0
PRODID:-//ChamberMaster//Event Calendar 2.0//EN
METHOD:PUBLISH
X-PUBLISHED-TTL:P3D
REFRESH-INTERVAL:P3D
CALSCALE:GREGORIAN
BEGIN:VEVENT
DTSTART:20200527T080000Z
DTEND:20200527T093000Z
X-MICROSOFT-CDO-ALLDAYEVENT:FALSE
SUMMARY:Health for Juan & Juana: The Innovation Imperative Webinar Forum
DESCRIPTION:This year\, the Pharmaceutical and Healthcare Association of the Philippines and its partners zero in on innovation\, the heart and mission of its members\, global research-based biopharmaceutical companies some of whom also operate in the Philippines. The Innovation Imperative forum webinar thus seeks to showcase efforts at finding solutions to urgent and lingering health challenges and draw insights on how Filipinos can benefit.\n\n\n\nThe Innovation Imperative shall feature speakers who will not only inform participants on the latest research and development initiatives on vaccines\, treatments and testing on COVID-19 and other public health emergencies but also share their insights on how collaborative efforts can contribute to\n\nbuilding a more resilient nation.\n\n\n\nIt shall also delve on the country?s national aspiration of transforming the Philippines into a country which values\, promotes\, incentivizes and applies innovation for the Filipino people at the backdrop of the global pandemic and other major health needs.
X-ALT-DESC;FMTTYPE=text/html:<span style="color: rgb(35\, 35\, 51)\; font-family: Lato\, Helvetica\, Arial\; font-size: 14px\;">This year\, the Pharmaceutical and Healthcare Association of the Philippines and its partners zero in on innovation\, the heart and mission of its members\, global research-based biopharmaceutical companies some of whom also operate in the Philippines. The Innovation Imperative forum webinar thus seeks to showcase efforts at finding solutions to urgent and lingering health challenges and draw insights on how Filipinos can benefit.</span><br style="box-sizing: border-box\; color: rgb(35\, 35\, 51)\; font-family: Lato\, Helvetica\, Arial\; font-size: 14px\;" />\n<br style="box-sizing: border-box\; color: rgb(35\, 35\, 51)\; font-family: Lato\, Helvetica\, Arial\; font-size: 14px\;" />\n<span style="color: rgb(35\, 35\, 51)\; font-family: Lato\, Helvetica\, Arial\; font-size: 14px\;">The Innovation Imperative shall feature speakers who will not only inform participants on the latest research and development initiatives on vaccines\, treatments and testing on COVID-19 and other public health emergencies but also share their insights on how collaborative efforts can contribute to</span><br style="box-sizing: border-box\; color: rgb(35\, 35\, 51)\; font-family: Lato\, Helvetica\, Arial\; font-size: 14px\;" />\n<span style="color: rgb(35\, 35\, 51)\; font-family: Lato\, Helvetica\, Arial\; font-size: 14px\;">building a more resilient nation.</span><br style="box-sizing: border-box\; color: rgb(35\, 35\, 51)\; font-family: Lato\, Helvetica\, Arial\; font-size: 14px\;" />\n<br style="box-sizing: border-box\; color: rgb(35\, 35\, 51)\; font-family: Lato\, Helvetica\, Arial\; font-size: 14px\;" />\n<span style="color: rgb(35\, 35\, 51)\; font-family: Lato\, Helvetica\, Arial\; font-size: 14px\;">It shall also delve on the country?s national aspiration of transforming the Philippines into a country which values\, promotes\, incentivizes and applies innovation for the Filipino people at the backdrop of the global pandemic and other major health needs.</span>
LOCATION:Zoom Call
UID:e.9078.8203
SEQUENCE:3
DTSTAMP:20260420T154417Z
URL:http://memberzone.usasean.org/events/details/health-for-juan-juana-the-innovation-imperative-webinar-forum-8203
END:VEVENT

END:VCALENDAR
