BEGIN:VCALENDAR
VERSION:2.0
PRODID:-//ChamberMaster//Event Calendar 2.0//EN
METHOD:PUBLISH
X-PUBLISHED-TTL:P3D
REFRESH-INTERVAL:P3D
CALSCALE:GREGORIAN
BEGIN:VEVENT
DTSTART:20130201T013000Z
DTEND:20130201T023000Z
X-MICROSOFT-CDO-ALLDAYEVENT:FALSE
SUMMARY:Health and Life Sciences Working Group Quarterly Meeting - January 31\, 2013
DESCRIPTION:Please join us for a conference call to discuss upcoming Health and Life Sciences events and initiatives.
X-ALT-DESC;FMTTYPE=text/html:Please join us for a conference call to discuss upcoming Health and Life Sciences events and initiatives. 
LOCATION:For those in Singapore\, we will be meeting in person at the US-ASEAN Business Council's Singapore office. If you would like to attend\, please email Shay Wester at swester@usasean.org. US-ASEAN Business Council Singapore Office 100 Beach Road\, #22-04/05 Shaw Tower\, Singapore 189702
UID:e.9078.692
SEQUENCE:3
DTSTAMP:20260422T113121Z
URL:http://memberzone.usasean.org/events/details/health-and-life-sciences-working-group-quarterly-meeting-january-31-2013-01-31-2013-692
END:VEVENT

END:VCALENDAR
