BEGIN:VCALENDAR
VERSION:2.0
PRODID:-//ChamberMaster//Event Calendar 2.0//EN
METHOD:PUBLISH
X-PUBLISHED-TTL:P3D
REFRESH-INTERVAL:P3D
CALSCALE:GREGORIAN
BEGIN:VEVENT
DTSTART:20220830T013000Z
DTEND:20220830T030000Z
X-MICROSOFT-CDO-ALLDAYEVENT:FALSE
SUMMARY:Global Outlook for the Semiconductor Industry
DESCRIPTION:Global Outlook for the Semiconductor Industry\n\nFeaturing:\n\n\n\nBruce Andrews\, Corporate Vice President and Chief Government Affairs Officer\, Intel Corporation
X-ALT-DESC;FMTTYPE=text/html:<font face="arial\, sans-serif" size="3"><b>Global Outlook for the Semiconductor Industry</b><br />\nFeaturing:<br />\n<br />\nBruce Andrews\, Corporate Vice&nbsp\;President and Chief Government Affairs Officer\, Intel&nbsp\;Corporation</font>
LOCATION:
UID:e.9078.8848
SEQUENCE:3
DTSTAMP:20260421T235554Z
URL:http://memberzone.usasean.org/events/details/global-outlook-for-the-semiconductor-industry-8848
END:VEVENT

END:VCALENDAR
