BEGIN:VCALENDAR
VERSION:2.0
PRODID:-//ChamberMaster//Event Calendar 2.0//EN
METHOD:PUBLISH
X-PUBLISHED-TTL:P3D
REFRESH-INTERVAL:P3D
CALSCALE:GREGORIAN
BEGIN:VEVENT
DTSTART:20221025T220000Z
DTEND:20221026T010000Z
X-MICROSOFT-CDO-ALLDAYEVENT:FALSE
SUMMARY:Gala with Indonesia Coord Minister of Economic Affairs and Minister of Industry
DESCRIPTION:A gala dinner in cooperation with USINDO\n\nin honor of Coord. Minister of Economic Affairs Airlangga Hartarto\n\nand Minister of Industry Agus G. Kartasasmita
X-ALT-DESC;FMTTYPE=text/html:<div style="text-align: center\;">A gala dinner in cooperation with USINDO<br />\nin honor of Coord. Minister of Economic Affairs Airlangga Hartarto<br />\nand Minister of Industry Agus G. Kartasasmita</div>\n
LOCATION:Four Seasons Hotel 2800 Pennsylvania Avenue N.W.\, Washington\, D.C.
UID:e.9078.8897
SEQUENCE:3
DTSTAMP:20260421T205555Z
URL:http://memberzone.usasean.org/events/details/gala-with-indonesia-coord-minister-of-economic-affairs-and-minister-of-industry-8897
END:VEVENT

END:VCALENDAR
