BEGIN:VCALENDAR
VERSION:2.0
PRODID:-//ChamberMaster//Event Calendar 2.0//EN
METHOD:PUBLISH
X-PUBLISHED-TTL:P3D
REFRESH-INTERVAL:P3D
CALSCALE:GREGORIAN
BEGIN:VEVENT
DTSTART;VALUE=DATE:20120829
DTEND;VALUE=DATE:20120830
TRANSP:TRANSPARENT
X-MICROSOFT-CDO-ALLDAYEVENT:TRUE
SUMMARY:FSWG BYOL Brown Bag Discussion with Jonathan Poling - Aug 29 2012
DESCRIPTION:
X-ALT-DESC;FMTTYPE=text/html:
LOCATION:
UID:e.9078.393
SEQUENCE:3
DTSTAMP:20260424T221459Z
URL:http://memberzone.usasean.org/events/details/fswg-byol-brown-bag-discussion-with-jonathan-poling-aug-29-2012-08-29-2012-393
END:VEVENT

END:VCALENDAR
