BEGIN:VCALENDAR
VERSION:2.0
PRODID:-//ChamberMaster//Event Calendar 2.0//EN
METHOD:PUBLISH
X-PUBLISHED-TTL:P3D
REFRESH-INTERVAL:P3D
CALSCALE:GREGORIAN
BEGIN:VEVENT
DTSTART;VALUE=DATE:20141204
DTEND;VALUE=DATE:20141205
TRANSP:TRANSPARENT
X-MICROSOFT-CDO-ALLDAYEVENT:TRUE
SUMMARY:Forum on Human Capital and 21st Century Skills Development in ASEAN
DESCRIPTION:The US-ASEAN Business Council and our members believe that further investments in human capital development will be a key driver of ASEAN's global competitiveness. At present\, in several of ASEAN's fastest growing sectors\, the demand for talent is beginning to outpace supply and there is a growing need for further soft skills development for recent university graduates entering the work place. Furthermore\, as the ASEAN Economic Community (AEC) approaches\, the ability of skilled labor to flow between ASEAN countries will be even more important to both foreign investors and regional corporates.\n\n\n\nThe Human Capital Development and 21st Century Skills in ASEAN forum will bring together ASEAN leaders from universities and vocational schools\, human resource professionals\, government officials and youth leaders to exchange perspectives with executives from multinational corporations on ways to ensure the next generation of ASEAN youth will be prepared with 21st century skills to both enter the workforce and compete for the jobs in ASEAN's high growth industries of tomorrow.
X-ALT-DESC;FMTTYPE=text/html:<span style="font-family:arial\;">The US-ASEAN Business Council and our members believe that further investments in human capital development will be a key driver of ASEAN&rsquo\;s global competitiveness. At present\, in several of ASEAN&rsquo\;s fastest growing sectors\, the demand for talent is beginning to outpace supply and there is a growing need for further soft skills development for recent university graduates entering the work place. Furthermore\, as the ASEAN Economic Community (AEC) approaches\, the ability of skilled labor to flow between ASEAN countries will be even more important to both foreign investors and regional corporates.<br />\n<br />\n<span style="font-size: 12pt\;">The <em>Human Capital Development and 21<sup>st</sup> Century Skills in ASEAN forum </em>will bring together ASEAN leaders from universities and vocational schools\, human resource professionals\, government officials and youth leaders to exchange perspectives with executives from multinational corporations on ways to ensure the next generation of ASEAN youth will be prepared with 21<sup>st</sup> century skills to both enter the workforce and compete for the jobs in ASEAN&#39\;s high growth industries of tomorrow.</span></span>
LOCATION:Singapore
UID:e.9078.1310
SEQUENCE:3
DTSTAMP:20260419T235522Z
URL:http://memberzone.usasean.org/events/details/forum-on-human-capital-and-21st-century-skills-development-in-asean-12-04-2014-1310
END:VEVENT

END:VCALENDAR
