BEGIN:VCALENDAR
VERSION:2.0
PRODID:-//ChamberMaster//Event Calendar 2.0//EN
METHOD:PUBLISH
X-PUBLISHED-TTL:P3D
REFRESH-INTERVAL:P3D
CALSCALE:GREGORIAN
BEGIN:VEVENT
DTSTART:20200527T013000Z
DTEND:20200527T023000Z
X-MICROSOFT-CDO-ALLDAYEVENT:FALSE
SUMMARY:Follow-up Video Conference Call with Ambassador DeSombre
DESCRIPTION:
X-ALT-DESC;FMTTYPE=text/html:
LOCATION:
UID:e.9078.8184
SEQUENCE:3
DTSTAMP:20260420T155532Z
URL:http://memberzone.usasean.org/events/details/follow-up-video-conference-call-with-ambassador-desombre-8184
END:VEVENT

END:VCALENDAR
