BEGIN:VCALENDAR
VERSION:2.0
PRODID:-//ChamberMaster//Event Calendar 2.0//EN
METHOD:PUBLISH
X-PUBLISHED-TTL:P3D
REFRESH-INTERVAL:P3D
CALSCALE:GREGORIAN
BEGIN:VEVENT
DTSTART:20200702T090000Z
DTEND:20200702T100000Z
X-MICROSOFT-CDO-ALLDAYEVENT:FALSE
SUMMARY:Follow Up Discussion on Indonesia Personal Data Protection Bill
DESCRIPTION:
X-ALT-DESC;FMTTYPE=text/html:
LOCATION:
UID:e.9078.8234
SEQUENCE:3
DTSTAMP:20260420T140759Z
URL:http://memberzone.usasean.org/events/details/follow-up-discussion-on-indonesia-personal-data-protection-bill-8234
END:VEVENT

END:VCALENDAR
