BEGIN:VCALENDAR
VERSION:2.0
PRODID:-//ChamberMaster//Event Calendar 2.0//EN
METHOD:PUBLISH
X-PUBLISHED-TTL:P3D
REFRESH-INTERVAL:P3D
CALSCALE:GREGORIAN
BEGIN:VEVENT
DTSTART:20211007T020000Z
DTEND:20211007T030000Z
X-MICROSOFT-CDO-ALLDAYEVENT:FALSE
SUMMARY:First Planning Discussion For the USABC Consultation at the 27 ATM
DESCRIPTION:Pre-Planning Discussion for the Council's Consultation Session at the 27 ATM.
X-ALT-DESC;FMTTYPE=text/html:Pre-Planning Discussion for the Council&#39\;s Consultation Session at the 27 ATM.
LOCATION:
UID:e.9078.8585
SEQUENCE:3
DTSTAMP:20260419T124121Z
URL:http://memberzone.usasean.org/events/details/first-planning-discussion-for-the-usabc-consultation-at-the-27-atm-8585
END:VEVENT

END:VCALENDAR
