BEGIN:VCALENDAR
VERSION:2.0
PRODID:-//ChamberMaster//Event Calendar 2.0//EN
METHOD:PUBLISH
X-PUBLISHED-TTL:P3D
REFRESH-INTERVAL:P3D
CALSCALE:GREGORIAN
BEGIN:VEVENT
DTSTART;VALUE=DATE:20210126
DTEND;VALUE=DATE:20210127
TRANSP:TRANSPARENT
X-MICROSOFT-CDO-ALLDAYEVENT:TRUE
SUMMARY:First Planning Call for the 2021 Virtual Business Mission to the Philippines
DESCRIPTION:Dear Members\, \n\n\n\nThe Virtual F&A Business Mission to the Philippines is scheduled to take place on February 22 - 26.\n\n \n\nThe Council would like to invite you to our First Planning Call for the 2021 Virtual Business Mission to the Philippines. The planning call will provide an overview and share the objectives of the Mission\, including an overview of our First Joint Working Group to implement the MoU with the Department of Agriculture. It will also discuss target bilateral meetings that will take place from February 22 - 26 and discuss logistics information for the mission.\n\n\n\nTo register for the mission click the link below:\n\nhttps://www.usasean.org/mission/registration\n\n\n\nPROPOSED BILATERAL MEETINGS (February 22 - 26)\n\n\n	Department of Agriculture (MoU Meeting)\n	Department of Finance\n	Department of Trade and Industry\n	Food & Drug Administration\n	House of Representatives: (Agriculture and Food Committee\, Ecology Committee\, Trade and Industry Committee)\n	Senate: ( Senate Agriculture Committe\, Senate Trade Committe\, Senate Finance Committee)\n	National Food Authority\n	National Economic Development Authority\n	Briefing from the US Embassy in Manila\n	Briefing from the Asian Development Bank\n\n\nAdditional meetings can be requested but are subject to the official's availability. \n\n\n\nPlease be reminded that the deadline for registration is COB Monday\, January 25 (SGT)
X-ALT-DESC;FMTTYPE=text/html:<div style="letter-spacing: 1px\; font-family: arial\, helvetica\, sans-serif\; font-size: 16px\;"><span style="font-family: arial\;">Dear Members\,&nbsp\;</span><br />\n<br />\nThe Virtual F&amp\;A Business Mission to the Philippines is scheduled to take place on&nbsp\;<strong>February 22 - 26.</strong><br />\n&nbsp\;</div>\n\n<div style="letter-spacing: 1px\; font-family: arial\, helvetica\, sans-serif\; font-size: 16px\; text-align: justify\;"><span style="font-family: arial\;">The Council would like to invite you to our First&nbsp\;Planning Call for the 2021&nbsp\;Virtual Business Mission to the Philippines. The planning call will provide an overview and share the objectives of the Mission\, including an overview of our First Joint Working Group to implement the MoU with the Department of Agriculture.&nbsp\;It will also discuss&nbsp\;target bilateral meetings that will take place from February 22 - 26 and discuss logistics information for the mission.</span><br />\n<br />\n<strong>To register for the mission click the link below:</strong><br />\n<a href="https://www.usasean.org/mission/registration">https://www.usasean.org/mission/registration</a><br />\n<br />\n<strong>PROPOSED BILATERAL MEETINGS (February&nbsp\;22 - 26)</strong></div>\n\n<ul style="font-family: georgia\, serif\; font-size: 13.3333px\; letter-spacing: 1px\;">\n	<li><span style="font-family: arial\;"><span style="font-size: 16px\;">Department of Agriculture (MoU Meeting)</span></span></li>\n	<li><span style="font-family: arial\;"><span style="font-size: 16px\;">Department of Finance</span></span></li>\n	<li><span style="font-family: arial\;"><span style="font-size: 16px\;">Department of Trade and Industry</span></span></li>\n	<li><span style="font-family: arial\;"><span style="font-size: 16px\;">Food &amp\; Drug Administration</span></span></li>\n	<li><span style="font-family: arial\;"><span style="font-size: 16px\;">House of Representatives: (</span></span><span style="font-family: arial\;"><span style="font-size: 16px\;">Agriculture and Food Committee\,&nbsp\;</span></span><span style="font-family: arial\;"><span style="font-size: 16px\;">Ecology Committee\,&nbsp\;</span></span><span style="font-family: arial\;"><span style="font-size: 16px\;">Trade and Industry Committee)</span></span></li>\n	<li><span style="font-family: arial\;"><span style="font-size: 16px\;">Senate: (</span></span><span style="font-family: arial\;"><span style="font-size: 16px\;">&#8203\;Senate Agriculture Committe\,&nbsp\;</span></span><span style="font-family: arial\;"><span style="font-size: 16px\;">Senate Trade&nbsp\;Committe\,&nbsp\;</span></span><span style="font-family: arial\;"><span style="font-size: 16px\;">Senate Finance Committee)</span></span></li>\n	<li><span style="font-family: arial\;"><span style="font-size: 16px\;">National Food Authority</span></span></li>\n	<li><span style="font-family: arial\;"><span style="font-size: 16px\;">National Economic Development Authority</span></span></li>\n	<li><span style="font-family: arial\;"><span style="font-size: 16px\;">Briefing from the US Embassy in Manila</span></span></li>\n	<li><span style="font-family: arial\;"><span style="font-size: 16px\;">Briefing from the Asian Development Bank</span></span></li>\n</ul>\n\n<div style="letter-spacing: 1px\; font-family: arial\, helvetica\, sans-serif\; font-size: 16px\; text-align: justify\;"><b>Additional meetings can be requested but are subject to the official&#39\;s availability.&nbsp\;</b><br />\n<br />\nPlease be reminded that the deadline for registration is&nbsp\;<strong><span style="background-color: rgb(255\, 255\, 0)\;">COB&nbsp\;Monday\, January 25&nbsp\;(SGT)</span></strong></div>\n
LOCATION:
UID:e.9078.8375
SEQUENCE:3
DTSTAMP:20260420T034925Z
URL:http://memberzone.usasean.org/events/details/first-planning-call-for-the-2021-virtual-business-mission-to-the-philippines-8375
END:VEVENT

END:VCALENDAR
