BEGIN:VCALENDAR
VERSION:2.0
PRODID:-//ChamberMaster//Event Calendar 2.0//EN
METHOD:PUBLISH
X-PUBLISHED-TTL:P3D
REFRESH-INTERVAL:P3D
CALSCALE:GREGORIAN
BEGIN:VEVENT
DTSTART:20210805T003000Z
DTEND:20210805T020000Z
X-MICROSOFT-CDO-ALLDAYEVENT:FALSE
SUMMARY:First Planning Call for the 2021 Virtual Business Mission to the 53rd ASEAN Economic Ministers (AEM) Meeting
DESCRIPTION:The Council is pleased to invite members to join the First Planning Call for the 2021 Virtual Business Mission to 53rd ASEAN Economic Ministers (AEM) Meeting on Thursday\, August 5\, 2021 from 08.30 AM   10.00 AM (SGT)/Wednesday\, August 4\, 2021 from 08.30 PM   10.00 PM (ET).\n\n \n\nCall Agenda\n\nDuring the first part of the call\, Ms. Melissa Brown\, Charg  d'Affaires\, a.i.\, at the U.S. Mission to the Association of Southeast Asian Nations (official bio is available here)\, will provide a briefing on the U.S. Government (USG)'s priorities for engaging the ASEAN Economic Ministers during the 53rd AEM Meeting. The briefing will be followed by a short Q&A session.\n\nOn the second part of the call\, we will discuss the preparation for the annual US-ABC Business Mission to AEM from September 13 - September 24\, 2021. Moreover\, the call will review the proposed mission theme\, key deliverables to the AEM\, priority bilateral meetings\, and other logistical matters.\n\n\n\nFurther details of the Business Mission\, as well as the invitation\, will be sent at a later date.\n\n\n\nBusiness Mission Themes:\n\n\n\nThis year's mission themes will focus on the post-pandemic comprehensive recovery in the ASEAN region. The mission constitutes a key part of our yearly engagement with ASEAN to show commitment from the Council to help achieve the realization of ASEAN Single Market and driving economic integration amidst the COVID-19 pandemic. The virtual meeting will cover the following topics:\n\n	Advancing Digital Economy\n	Strengthening Healthcare\n	Rebuilding Travel & Tourism\n\n \n\nIf you are interested or have any questions regarding the mission\, please reach out to Marcella Suwandhi at msuwandhi@usasean.org or Nugraheni Utami at utami@usasean.org.
X-ALT-DESC;FMTTYPE=text/html:<div style="clear:both\;"><span style="color: rgb(32\, 31\, 30)\;"><span style="font-family: arial\, sans-serif\;"><span style="font-size: 12pt\;">The Council is pleased to invite members to join the First Planning Call for the 2021 Virtual Business Mission to 53<sup>rd</sup>&nbsp\;ASEAN Economic Ministers (AEM) Meeting on&nbsp\;<strong>Thursday\, August 5\, 2021 from 08.30 AM &ndash\; 10.00 AM (SGT)/Wednesday\, August 4\, 2021 from 08.30 PM &ndash\; 10.00 PM (ET)</strong>.</span></span></span><br />\n&nbsp\;<br />\n<strong><span style="color: rgb(32\, 31\, 30)\;"><span style="font-family: arial\, sans-serif\;"><span style="font-size: 12pt\;">Call Agenda</span></span></span></strong><br />\n<span style="color: rgb(32\, 31\, 30)\;"><span style="font-family: arial\, sans-serif\;"><span style="font-size: 12pt\;">During the first part of the call\,&nbsp\;<strong>Ms. Melissa Brown\,</strong></span></span></span>&nbsp\;<strong><span style="color: rgb(32\, 31\, 30)\;"><span style="font-family: arial\, sans-serif\;"><span style="font-size: 12pt\;">Charg&eacute\; d&rsquo\;Affaires\, a.i.\, at the U.S. Mission to the Association of Southeast Asian Nations</span></span></span></strong><span style="color: rgb(32\, 31\, 30)\;"><span style="font-family: arial\, sans-serif\;"><span style="font-size: 12pt\;">&nbsp\;(official bio is available&nbsp\;</span></span></span><span style="font-size: 12pt\;"><a href="https://protect-us.mimecast.com/s/XzKqCgJyBwUrYjOsoU0Fk"><strong><span style="text-decoration-line: none\;"><span style="color: windowtext\;"><span style="font-family: arial\, sans-serif\;">here</span></span></span></strong></a></span><span style="color: rgb(32\, 31\, 30)\;"><span style="font-family: arial\, sans-serif\;"><span style="font-size: 12pt\;">)\, will provide a briefing on the U.S. Government (USG)&rsquo\;s priorities for engaging the ASEAN Economic Ministers during the 53rd AEM Meeting. The briefing will be followed by a short Q&amp\;A session.</span></span></span><br />\n<span style="color: rgb(32\, 31\, 30)\;"><span style="font-family: arial\, sans-serif\;"><span style="font-size: 12pt\;">On the second part of the call\, we will discuss the preparation for the annual US-ABC Business Mission to AEM from September 13 - September 24\, 2021. Moreover\, the call will review the proposed mission theme\, key deliverables to the AEM\, priority bilateral meetings\, and other logistical matters.</span></span></span><br />\n<br />\n<span style="color: rgb(32\, 31\, 30)\;"><span style="font-family: arial\, sans-serif\;"><span style="font-size: 12pt\;">Further details of the Business Mission\, as well as the invitation\, will be sent at a later date.</span></span></span><br />\n<br />\n<strong><span style="color: rgb(32\, 31\, 30)\;"><span style="font-family: arial\, sans-serif\;"><span style="font-size: 12pt\;">Business Mission Themes:</span></span></span></strong><br />\n<br />\n<span style="color: rgb(32\, 31\, 30)\;"><span style="font-family: arial\, sans-serif\;"><span style="font-size: 12pt\;">This year&rsquo\;s mission themes will focus on the post-pandemic comprehensive recovery in the ASEAN region. The mission constitutes a key part of our yearly engagement with ASEAN to show commitment from the Council to help achieve the realization of ASEAN Single Market and driving economic integration amidst the COVID-19 pandemic. The virtual meeting will cover the following topics:</span></span></span>\n<ol>\n	<li style="text-align: justify\;"><span style="color: rgb(32\, 31\, 30)\;"><span style="font-family: arial\, sans-serif\;"><span style="font-size: 12pt\;">Advancing Digital Economy</span></span></span></li>\n	<li style="text-align: justify\;"><span style="color: rgb(32\, 31\, 30)\;"><span style="font-family: arial\, sans-serif\;"><span style="font-size: 12pt\;">Strengthening Healthcare</span></span></span></li>\n	<li style="text-align: justify\;"><span style="color: rgb(32\, 31\, 30)\;"><span style="font-family: arial\, sans-serif\;"><span style="font-size: 12pt\;">Rebuilding Travel &amp\; Tourism</span></span></span></li>\n</ol>\n&nbsp\;<br />\n<span style="color: rgb(32\, 31\, 30)\;"><span style="font-family: arial\, sans-serif\;"><span style="font-size: 12pt\;">If you are interested or have any questions regarding the mission\, please reach out to&nbsp\;<strong>Marcella Suwandhi</strong>&nbsp\;at&nbsp\;</span></span></span><span style="font-size: 12pt\;"><a href="mailto:msuwandhi@usasean.org"><span style="font-family: arial\, sans-serif\;">msuwandhi@usasean.org</span></a></span><span style="color: rgb(32\, 31\, 30)\;"><span style="font-family: arial\, sans-serif\;"><span style="font-size: 12pt\;">&nbsp\;or&nbsp\;<strong>Nugraheni Utami</strong>&nbsp\;at&nbsp\;</span></span></span><span style="font-size: 12pt\;"><a href="mailto:utami@usasean.org"><span style="font-family: arial\, sans-serif\;">utami@usasean.org</span></a></span><span style="color: rgb(32\, 31\, 30)\;"><span style="font-family: arial\, sans-serif\;"><span style="font-size: 12pt\;">.</span></span></span></div>\n
LOCATION:Zoom
UID:e.9078.8522
SEQUENCE:3
DTSTAMP:20260419T160316Z
URL:http://memberzone.usasean.org/events/details/first-planning-call-for-the-2021-virtual-business-mission-to-the-53rd-asean-economic-ministers-aem-meeting-8522
END:VEVENT

END:VCALENDAR
