BEGIN:VCALENDAR
VERSION:2.0
PRODID:-//ChamberMaster//Event Calendar 2.0//EN
METHOD:PUBLISH
X-PUBLISHED-TTL:P3D
REFRESH-INTERVAL:P3D
CALSCALE:GREGORIAN
BEGIN:VEVENT
DTSTART:20150415T013000Z
DTEND:20150415T023000Z
X-MICROSOFT-CDO-ALLDAYEVENT:FALSE
SUMMARY:First Planning Call for the 2015 ASEAN Customs Directors-General Meeting
DESCRIPTION:Please join us for the first of two calls to plan our Mission to the 24th ASEAN Directors-General of Customs Meeting. The call will focus on themes for the discussion and key points which will form the basis of our advocacy efforts. All members who are considering going on the Mission are encouraged to join the call. The full Mission invitation will be sent shortly pending the confirmation of logistics details.
X-ALT-DESC;FMTTYPE=text/html:Please join us for the first of two calls to plan our Mission to the&nbsp\;24th ASEAN Directors-General of Customs Meeting. The call will focus on themes for the discussion and key&nbsp\;points which will form the basis of our advocacy efforts. All members who are considering going on the Mission are encouraged to join the call. The full Mission invitation will be sent shortly pending the confirmation of logistics details.&nbsp\;
LOCATION:Teleconference
UID:e.9078.1525
SEQUENCE:3
DTSTAMP:20260419T174211Z
URL:http://memberzone.usasean.org/events/details/first-planning-call-for-the-2015-asean-customs-directors-general-meeting-04-14-2015-1525
END:VEVENT

END:VCALENDAR
