BEGIN:VCALENDAR
VERSION:2.0
PRODID:-//ChamberMaster//Event Calendar 2.0//EN
METHOD:PUBLISH
X-PUBLISHED-TTL:P3D
REFRESH-INTERVAL:P3D
CALSCALE:GREGORIAN
BEGIN:VEVENT
DTSTART:20230119T010000Z
DTEND:20230119T020000Z
X-MICROSOFT-CDO-ALLDAYEVENT:FALSE
SUMMARY:First Planning Call - 2023 ADGMIN Mission
DESCRIPTION:First Planning Call for 2023 Business Mission to the 3rd ASEAN Digital Ministers Meeting (ADGMIN) on February 8 - 10\, 2023 at Boracay\, the Philippines.
X-ALT-DESC;FMTTYPE=text/html:<span style="font-size:16px\;"><span style="font-family: arial\;">First Planning Call for 2023 Business Mission&nbsp\;</span><span style="font-family: arial\;">to the 3rd ASEAN Digital Ministers Meeting (ADGMIN) on&nbsp\;February 8 - 10\, 2023 at&nbsp\;Boracay\, the Philippines.</span></span>
LOCATION:Virtual meeting (via Webex)
UID:e.9078.8931
SEQUENCE:3
DTSTAMP:20260421T160102Z
URL:http://memberzone.usasean.org/events/details/first-planning-call-2023-adgmin-mission-8931
END:VEVENT

END:VCALENDAR
