BEGIN:VCALENDAR
VERSION:2.0
PRODID:-//ChamberMaster//Event Calendar 2.0//EN
METHOD:PUBLISH
X-PUBLISHED-TTL:P3D
REFRESH-INTERVAL:P3D
CALSCALE:GREGORIAN
BEGIN:VEVENT
DTSTART:20210413T030000Z
DTEND:20210413T040000Z
X-MICROSOFT-CDO-ALLDAYEVENT:FALSE
SUMMARY:First Planning Call 2021 F&A Mission to Vietnam
DESCRIPTION:The Council is pleased to invite you to the First Planning Call for the 2021 F&A Mission to Vietnam.
X-ALT-DESC;FMTTYPE=text/html:The Council is pleased to invite you to the First Planning Call for the 2021 F&amp\;A Mission to Vietnam.
LOCATION:Zoom
UID:e.9078.8447
SEQUENCE:3
DTSTAMP:20260419T224900Z
URL:http://memberzone.usasean.org/events/details/first-planning-call-2021-f-a-mission-to-vietnam-8447
END:VEVENT

END:VCALENDAR
