BEGIN:VCALENDAR
VERSION:2.0
PRODID:-//ChamberMaster//Event Calendar 2.0//EN
METHOD:PUBLISH
X-PUBLISHED-TTL:P3D
REFRESH-INTERVAL:P3D
CALSCALE:GREGORIAN
BEGIN:VEVENT
DTSTART:20200129T013000Z
DTEND:20200129T023000Z
X-MICROSOFT-CDO-ALLDAYEVENT:FALSE
SUMMARY:First Innovation Committee Call
DESCRIPTION:The first call of the Innovation Committee
X-ALT-DESC;FMTTYPE=text/html:The first call of the Innovation Committee
LOCATION:Zoom Conference Call
UID:e.9078.8108
SEQUENCE:3
DTSTAMP:20260421T134123Z
URL:http://memberzone.usasean.org/events/details/first-innovation-committee-call-8108
END:VEVENT

END:VCALENDAR
