BEGIN:VCALENDAR
VERSION:2.0
PRODID:-//ChamberMaster//Event Calendar 2.0//EN
METHOD:PUBLISH
X-PUBLISHED-TTL:P3D
REFRESH-INTERVAL:P3D
CALSCALE:GREGORIAN
BEGIN:VEVENT
DTSTART:20210818T233000Z
DTEND:20210820T010000Z
X-MICROSOFT-CDO-ALLDAYEVENT:FALSE
SUMMARY:Fireside Chat # 3: Representative Stella Luz Quimbo
DESCRIPTION:Fireside Chat # 3 with Representative Stella Luz A. Quimbo
X-ALT-DESC;FMTTYPE=text/html:Fireside Chat # 3 with Representative Stella Luz A. Quimbo
LOCATION:via Zoom
UID:e.9078.8541
SEQUENCE:3
DTSTAMP:20260419T155656Z
URL:http://memberzone.usasean.org/events/details/fireside-chat-3-representative-stella-luz-quimbo-8541
END:VEVENT

END:VCALENDAR
