BEGIN:VCALENDAR
VERSION:2.0
PRODID:-//ChamberMaster//Event Calendar 2.0//EN
METHOD:PUBLISH
X-PUBLISHED-TTL:P3D
REFRESH-INTERVAL:P3D
CALSCALE:GREGORIAN
BEGIN:VEVENT
DTSTART;VALUE=DATE:20150520
DTEND;VALUE=DATE:20150521
TRANSP:TRANSPARENT
X-MICROSOFT-CDO-ALLDAYEVENT:TRUE
SUMMARY:Financial Times - First Metro Philippines Investment Summit 2015
DESCRIPTION:https://live.ft.com/Events/2015/Financial-Times-First-Metro-Philippines-Investment-Summit-2015
X-ALT-DESC;FMTTYPE=text/html:<a href="https://live.ft.com/Events/2015/Financial-Times-First-Metro-Philippines-Investment-Summit-2015">https://live.ft.com/Events/2015/Financial-Times-First-Metro-Philippines-Investment-Summit-2015</a>
LOCATION:Manila\, Philippines
UID:e.9078.1520
SEQUENCE:3
DTSTAMP:20260419T132751Z
URL:http://memberzone.usasean.org/events/details/financial-times-first-metro-philippines-investment-summit-2015-05-20-2015-1520
END:VEVENT

END:VCALENDAR
