BEGIN:VCALENDAR
VERSION:2.0
PRODID:-//ChamberMaster//Event Calendar 2.0//EN
METHOD:PUBLISH
X-PUBLISHED-TTL:P3D
REFRESH-INTERVAL:P3D
CALSCALE:GREGORIAN
BEGIN:VEVENT
DTSTART:20150129T010000Z
DTEND:20150129T020000Z
X-MICROSOFT-CDO-ALLDAYEVENT:FALSE
SUMMARY:Financial Services Committee Quarterly Conference Call
DESCRIPTION:Please join us to discuss the Financial Services Committee's messaging\, priorities and programs for 2015.  Prior to the call\, committee members are requested to complete the 2015 Financial Services Committee Priorities Survey\, which can be found here.  Feedback from this survey will be used in setting the call agenda and drafting the 2015 committee work plan.
X-ALT-DESC;FMTTYPE=text/html:<span style="font-size:16px\;"><span style="font-family:arial\;">Please join us to discuss the Financial Services&nbsp\;Committee&#39\;s messaging\, priorities and programs for 2015. &nbsp\;Prior to the call\, committee members are requested to complete the 2015 Financial Services Committee Priorities Survey\, which can be found <strong><a href="https://www.surveymonkey.com/s/6XYC2SJ">here</a></strong>. &nbsp\;Feedback from this survey will be used in setting the call agenda and drafting the 2015 committee work plan. &nbsp\;</span></span>
LOCATION:
UID:e.9078.1344
SEQUENCE:3
DTSTAMP:20260419T222107Z
URL:http://memberzone.usasean.org/events/details/financial-services-committee-quarterly-conference-call-01-28-2015-1344
END:VEVENT

END:VCALENDAR
