BEGIN:VCALENDAR
VERSION:2.0
PRODID:-//ChamberMaster//Event Calendar 2.0//EN
METHOD:PUBLISH
X-PUBLISHED-TTL:P3D
REFRESH-INTERVAL:P3D
CALSCALE:GREGORIAN
BEGIN:VEVENT
DTSTART:20131024T003000Z
DTEND:20131024T013000Z
X-MICROSOFT-CDO-ALLDAYEVENT:FALSE
SUMMARY:Financial Services Committee Quarterly Call
DESCRIPTION:Financial Services Committee Quarterly Call
X-ALT-DESC;FMTTYPE=text/html:Financial Services Committee Quarterly Call
LOCATION:Conference call
UID:e.9078.947
SEQUENCE:3
DTSTAMP:20260421T123852Z
URL:http://memberzone.usasean.org/events/details/financial-services-committee-quarterly-call-10-23-2013-947
END:VEVENT

END:VCALENDAR
