BEGIN:VCALENDAR
VERSION:2.0
PRODID:-//ChamberMaster//Event Calendar 2.0//EN
METHOD:PUBLISH
X-PUBLISHED-TTL:P3D
REFRESH-INTERVAL:P3D
CALSCALE:GREGORIAN
BEGIN:VEVENT
DTSTART:20200107T003000Z
DTEND:20200107T013000Z
X-MICROSOFT-CDO-ALLDAYEVENT:FALSE
SUMMARY:Final Planning Call for 2020 Mission to Meeting of ASEAN Tourism Ministers (M-ATM)
DESCRIPTION:
X-ALT-DESC;FMTTYPE=text/html:
LOCATION:Zoom Dial-In
UID:e.9078.8107
SEQUENCE:3
DTSTAMP:20260421T134321Z
URL:http://memberzone.usasean.org/events/details/final-planning-call-for-2020-mission-to-meeting-of-asean-tourism-ministers-m-atm-8107
END:VEVENT

END:VCALENDAR
