BEGIN:VCALENDAR
VERSION:2.0
PRODID:-//ChamberMaster//Event Calendar 2.0//EN
METHOD:PUBLISH
X-PUBLISHED-TTL:P3D
REFRESH-INTERVAL:P3D
CALSCALE:GREGORIAN
BEGIN:VEVENT
DTSTART:20210810T213000Z
DTEND:20210810T233000Z
X-MICROSOFT-CDO-ALLDAYEVENT:FALSE
SUMMARY:Farewell Reception for Alex Feldman
DESCRIPTION:Farewell Reception for Alex Feldman\n\n- by invitation only -
X-ALT-DESC;FMTTYPE=text/html:Farewell Reception for Alex Feldman<br />\n- by invitation only -
LOCATION:815 Connecticut Avenue\, NW Washington\, DC
UID:e.9078.8524
SEQUENCE:3
DTSTAMP:20260419T155817Z
URL:http://memberzone.usasean.org/events/details/farewell-reception-for-alex-feldman-8524
END:VEVENT

END:VCALENDAR
