BEGIN:VCALENDAR
VERSION:2.0
PRODID:-//ChamberMaster//Event Calendar 2.0//EN
METHOD:PUBLISH
X-PUBLISHED-TTL:P3D
REFRESH-INTERVAL:P3D
CALSCALE:GREGORIAN
BEGIN:VEVENT
DTSTART:20220914T160000Z
DTEND:20220914T173000Z
X-MICROSOFT-CDO-ALLDAYEVENT:FALSE
SUMMARY:Farewell Luncheon in honor of H.E. Manasvi Srisodapol\, Thai Ambassador to the United States (VIP)
DESCRIPTION:
X-ALT-DESC;FMTTYPE=text/html:
LOCATION:
UID:e.9078.8856
SEQUENCE:3
DTSTAMP:20260421T223214Z
URL:http://memberzone.usasean.org/events/details/farewell-luncheon-in-honor-of-h-e-manasvi-srisodapol-thai-ambassador-to-the-united-states-vip-8856
END:VEVENT

END:VCALENDAR
