BEGIN:VCALENDAR
VERSION:2.0
PRODID:-//ChamberMaster//Event Calendar 2.0//EN
METHOD:PUBLISH
X-PUBLISHED-TTL:P3D
REFRESH-INTERVAL:P3D
CALSCALE:GREGORIAN
BEGIN:VEVENT
DTSTART:20150128T170000Z
DTEND:20150128T183000Z
X-MICROSOFT-CDO-ALLDAYEVENT:FALSE
SUMMARY:Farewell Luncheon for Ambassador Vijavat Isarabhakdi
DESCRIPTION:Farewell Luncheon for Ambassador Vijavat Isarabhakdi
X-ALT-DESC;FMTTYPE=text/html:Farewell Luncheon for Ambassador Vijavat Isarabhakdi
LOCATION:
UID:e.9078.1350
SEQUENCE:3
DTSTAMP:20260419T222154Z
URL:http://memberzone.usasean.org/events/details/farewell-luncheon-for-ambassador-vijavat-isarabhakdi-01-28-2015-1350
END:VEVENT

END:VCALENDAR
