BEGIN:VCALENDAR
VERSION:2.0
PRODID:-//ChamberMaster//Event Calendar 2.0//EN
METHOD:PUBLISH
X-PUBLISHED-TTL:P3D
REFRESH-INTERVAL:P3D
CALSCALE:GREGORIAN
BEGIN:VEVENT
DTSTART:20130610T160000Z
DTEND:20130610T170000Z
X-MICROSOFT-CDO-ALLDAYEVENT:FALSE
SUMMARY:Farewell Lunch for Deputy Chief of Mission at US Embassy Judith Cefkin
DESCRIPTION:The Council is delighted to invite you to a small farewell lunch for DCM Judith Cefkin on 10th June. Judith has been a great friend and supporter of the Council throughout her three years in Thailand.
X-ALT-DESC;FMTTYPE=text/html:<span style="font-size:14px\;">The Council is delighted to invite you to a small farewell lunch for DCM Judith Cefkin on 10<sup>th</sup> June. Judith has been a great friend and supporter of the Council throughout her three years in Thailand.</span>
LOCATION:Private Room\, Madison Restaurant\, Four Seasons Hotel\, Rachadamri Road
UID:e.9078.810
SEQUENCE:3
DTSTAMP:20260421T223122Z
URL:http://memberzone.usasean.org/events/details/farewell-lunch-for-deputy-chief-of-mission-at-us-embassy-judith-cefkin-06-10-2013-810
END:VEVENT

END:VCALENDAR
