BEGIN:VCALENDAR
VERSION:2.0
PRODID:-//ChamberMaster//Event Calendar 2.0//EN
METHOD:PUBLISH
X-PUBLISHED-TTL:P3D
REFRESH-INTERVAL:P3D
CALSCALE:GREGORIAN
BEGIN:VEVENT
DTSTART:20210120T110000Z
DTEND:20210120T130000Z
X-MICROSOFT-CDO-ALLDAYEVENT:FALSE
SUMMARY:Farewell Dinner for Ambassador DeSombre
DESCRIPTION:VIP dinner for Ambassador DeSombre
X-ALT-DESC;FMTTYPE=text/html:VIP dinner for Ambassador DeSombre
LOCATION:
UID:e.9078.8442
SEQUENCE:3
DTSTAMP:20260420T052631Z
URL:http://memberzone.usasean.org/events/details/farewell-dinner-for-ambassador-desombre-8442
END:VEVENT

END:VCALENDAR
