BEGIN:VCALENDAR
VERSION:2.0
PRODID:-//ChamberMaster//Event Calendar 2.0//EN
METHOD:PUBLISH
X-PUBLISHED-TTL:P3D
REFRESH-INTERVAL:P3D
CALSCALE:GREGORIAN
BEGIN:VEVENT
DTSTART;VALUE=DATE:20130619
DTEND;VALUE=DATE:20130620
TRANSP:TRANSPARENT
X-MICROSOFT-CDO-ALLDAYEVENT:TRUE
SUMMARY:Farewell Breakfast for Ambassador Than Swe
DESCRIPTION:Farewell breakfast for Ambassador Than Swe
X-ALT-DESC;FMTTYPE=text/html:Farewell breakfast for Ambassador Than Swe&nbsp\;&nbsp\;&nbsp\; &nbsp\;&nbsp\;&nbsp\; 
LOCATION:Willard Hotel\, Room TBD
UID:e.9078.817
SEQUENCE:3
DTSTAMP:20260421T222724Z
URL:http://memberzone.usasean.org/events/details/farewell-breakfast-for-ambassador-than-swe-06-19-2013-817
END:VEVENT

END:VCALENDAR
