BEGIN:VCALENDAR
VERSION:2.0
PRODID:-//ChamberMaster//Event Calendar 2.0//EN
METHOD:PUBLISH
X-PUBLISHED-TTL:P3D
REFRESH-INTERVAL:P3D
CALSCALE:GREGORIAN
BEGIN:VEVENT
DTSTART:20210325T140000Z
DTEND:20210325T151500Z
X-MICROSOFT-CDO-ALLDAYEVENT:FALSE
SUMMARY:Farewell and Briefing with M. Lutfi
DESCRIPTION:Exclusive Farewell in Honor of H.E. Muhammad Lutfi\n\nThe Outgoing Ambassador of Indonesia to the United States\n\n\n\nand a Briefing on his New Priorities as the Minister of Trade of Indonesia
X-ALT-DESC;FMTTYPE=text/html:<br>\n<span style="font-size:18px\;"><span style="font-family:arial\;"><span style="text-align: center\; letter-spacing: 1px\; font-weight: 700\;">Exclusive Farewell in Honor of H.E. Muhammad Lutfi</span><br style="text-align: center\; letter-spacing: 1px\; font-size: 21.33px\; font-weight: 700\;">\n<span style="text-align: center\; letter-spacing: 1px\; font-weight: 700\;">The Outgoing Ambassador of Indonesia to the United States</span><br style="text-align: center\; letter-spacing: 1px\; font-size: 21.33px\; font-weight: 700\;">\n<br style="text-align: center\; letter-spacing: 1px\; font-size: 21.33px\; font-weight: 700\;">\n<span style="text-align: center\; letter-spacing: 1px\; font-weight: 700\;">and a</span><span style="text-align: center\; letter-spacing: 1px\; font-weight: 700\;">&nbsp\;Briefing on his New Priorities&nbsp\;as&nbsp\;the Minister of Trade of Indonesia</span></span></span>
LOCATION:
UID:e.9078.8409
SEQUENCE:3
DTSTAMP:20260420T000859Z
URL:http://memberzone.usasean.org/events/details/farewell-and-briefing-with-m-lutfi-8409
END:VEVENT

END:VCALENDAR
