BEGIN:VCALENDAR
VERSION:2.0
PRODID:-//ChamberMaster//Event Calendar 2.0//EN
METHOD:PUBLISH
X-PUBLISHED-TTL:P3D
REFRESH-INTERVAL:P3D
CALSCALE:GREGORIAN
BEGIN:VEVENT
DTSTART:20130607T133000Z
DTEND:20130607T143000Z
X-MICROSOFT-CDO-ALLDAYEVENT:FALSE
SUMMARY:F&A WG 2nd Quarterly Call / Meeting
DESCRIPTION:Food & Agriculture Working Group\, 2nd Quarterly Meeting / Call
X-ALT-DESC;FMTTYPE=text/html:Food &amp\; Agriculture Working Group\, 2nd Quarterly Meeting / Call
LOCATION:Cargill Asia Pacific Holdings Pte Ltd\, Carnation Room\, 22nd floor\, The Concourse\, 300 Beach Road\, Singapore
UID:e.9078.790
SEQUENCE:3
DTSTAMP:20260421T222730Z
URL:http://memberzone.usasean.org/events/details/f-a-wg-2nd-quarterly-call-meeting-06-07-2013-790
END:VEVENT

END:VCALENDAR
