BEGIN:VCALENDAR
VERSION:2.0
PRODID:-//ChamberMaster//Event Calendar 2.0//EN
METHOD:PUBLISH
X-PUBLISHED-TTL:P3D
REFRESH-INTERVAL:P3D
CALSCALE:GREGORIAN
BEGIN:VEVENT
DTSTART;VALUE=DATE:20140402
DTEND;VALUE=DATE:20140403
TRANSP:TRANSPARENT
X-MICROSOFT-CDO-ALLDAYEVENT:TRUE
SUMMARY:Euromoney ASEAN Economic Congress
DESCRIPTION:Corporate ASEAN and the Advent of ASEAN Economic Community\n\n\n\nIn anticipation of the 2015 ASEAN Economic Community (AEC)\, the region is transforming itself into a single regional common market with free movement of goods and services. The longer term implications to trade\, labour and capital flows will be great for this convergence story.\n\n \n\nFind out how business leaders are positioning their companies to adapt to an open ASEAN market which will comprise of over 600 million people and 10 countries.\n\n \n\nJoin the region's top policymakers\, C-level business executives\, bankers and thought leaders in Jakarta\, home of the ASEAN Secretariat\, to find out what the AEC will mean for the future of your company.
X-ALT-DESC;FMTTYPE=text/html:<span style="font-family:arial\;"><span style="font-size:14px\;">Corporate ASEAN and the Advent of ASEAN Economic Community<br />\n<br />\n<span style="color: black\;">In anticipation of the 2015 ASEAN Economic Community (AEC)\, the region is transforming itself into a single regional common market with free movement of goods and services. The longer term implications to trade\, labour and capital flows will be great for this convergence story.</span><br />\n&nbsp\;<br />\n<span style="color: black\;">Find out how business leaders are positioning their companies to adapt to an open ASEAN market which will comprise of over 600 million people and 10 countries.</span><br />\n&nbsp\;<br />\n<span style="color: black\;">Join the region&rsquo\;s top policymakers\, C-level business executives\, bankers and thought leaders in Jakarta\, home of the ASEAN Secretariat\, to find out what the AEC will mean for the future of your company.</span></span></span><br />\n<br />\n&nbsp\;
LOCATION:Hotel Mulia\, Senayan\, Jakarta - Indonesia
UID:e.9078.1084
SEQUENCE:3
DTSTAMP:20260420T153225Z
URL:http://memberzone.usasean.org/events/details/euromoney-asean-economic-congress-04-02-2014-1084
END:VEVENT

END:VCALENDAR
