BEGIN:VCALENDAR
VERSION:2.0
PRODID:-//ChamberMaster//Event Calendar 2.0//EN
METHOD:PUBLISH
X-PUBLISHED-TTL:P3D
REFRESH-INTERVAL:P3D
CALSCALE:GREGORIAN
BEGIN:VEVENT
DTSTART:20150526T013000Z
DTEND:20150526T040000Z
X-MICROSOFT-CDO-ALLDAYEVENT:FALSE
SUMMARY:EuroCham Breakfast Briefing on the Mandatory Use of Rupiah
DESCRIPTION:The briefing is intended as a forum to disseminate information regarding the Bank Indonesia Regulation No. 17/3/PBI/2015 on Obligation to Use Rupiah within the Territory of the Republic of Indonesia\, and will bring together related government officials and industry players to discuss the regulation and its implementation.\n\n \n\nSpeakers:\n\n\n\nMr. Edy Putra Irawady\, Deputy Minister for Commerce and Entrepreneurship\, Coordinating Ministry for Economic Affairs\n\n\n\nMr. Eko Yulianto\, Acting Chief of Currency Management Department\, Bank Indonesia\n\n\n\nMr. Asok Kumar\, President Director\, PT Schenker Petrolog Utama
X-ALT-DESC;FMTTYPE=text/html:The briefing is intended as a forum to disseminate information regarding the Bank Indonesia Regulation No. 17/3/PBI/2015 on Obligation to Use Rupiah within the Territory of the Republic of Indonesia\, and will bring together related government officials and industry players to discuss the regulation and its implementation.<br />\n&nbsp\;<br />\nSpeakers:<br />\n<br />\nMr. Edy Putra Irawady\, Deputy Minister for Commerce and Entrepreneurship\, Coordinating Ministry for Economic Affairs<br />\n<br />\nMr. Eko Yulianto\, Acting Chief of Currency Management Department\, Bank Indonesia<br />\n<br />\nMr. Asok Kumar\, President Director\, PT Schenker Petrolog Utama
LOCATION:Sasono Mulyo 3 Room\, Le Meridien Hotel Jl. Jend. Sudirman Kav. 18-20\, Jakarta
UID:e.9078.1564
SEQUENCE:3
DTSTAMP:20260419T132138Z
URL:http://memberzone.usasean.org/events/details/eurocham-breakfast-briefing-on-the-mandatory-use-of-rupiah-05-26-2015-1564
END:VEVENT

END:VCALENDAR
