BEGIN:VCALENDAR
VERSION:2.0
PRODID:-//ChamberMaster//Event Calendar 2.0//EN
METHOD:PUBLISH
X-PUBLISHED-TTL:P3D
REFRESH-INTERVAL:P3D
CALSCALE:GREGORIAN
BEGIN:VEVENT
DTSTART;VALUE=DATE:20111206
DTEND;VALUE=DATE:20111207
TRANSP:TRANSPARENT
X-MICROSOFT-CDO-ALLDAYEVENT:TRUE
SUMMARY:Energy Working Group Meeting and Briefing with DoE\, 12-6\, DC - Dec 6 2011
DESCRIPTION:
X-ALT-DESC;FMTTYPE=text/html:
LOCATION:
UID:e.9078.377
SEQUENCE:3
DTSTAMP:20260425T115458Z
URL:http://memberzone.usasean.org/events/details/energy-working-group-meeting-and-briefing-with-doe-12-6-dc-dec-6-2011-12-06-2011-377
END:VEVENT

END:VCALENDAR
