BEGIN:VCALENDAR
VERSION:2.0
PRODID:-//ChamberMaster//Event Calendar 2.0//EN
METHOD:PUBLISH
X-PUBLISHED-TTL:P3D
REFRESH-INTERVAL:P3D
CALSCALE:GREGORIAN
BEGIN:VEVENT
DTSTART:20211216T170000Z
DTEND:20211216T190000Z
X-MICROSOFT-CDO-ALLDAYEVENT:FALSE
SUMMARY:Energy Transition Lunch with ASEAN Ambassadors
DESCRIPTION:
X-ALT-DESC;FMTTYPE=text/html:
LOCATION:
UID:e.9078.8673
SEQUENCE:3
DTSTAMP:20260423T025804Z
URL:http://memberzone.usasean.org/events/details/energy-transition-lunch-with-asean-ambassadors-8673
END:VEVENT

END:VCALENDAR
