BEGIN:VCALENDAR
VERSION:2.0
PRODID:-//ChamberMaster//Event Calendar 2.0//EN
METHOD:PUBLISH
X-PUBLISHED-TTL:P3D
REFRESH-INTERVAL:P3D
CALSCALE:GREGORIAN
BEGIN:VEVENT
DTSTART:20180116T130000Z
DTEND:20180116T140000Z
X-MICROSOFT-CDO-ALLDAYEVENT:FALSE
SUMMARY:Energy Committee Quarterly Call
DESCRIPTION:Please join us for the first Energy Committee Quarterly Call of 2018. During the call we will review the 2018 work plan and discuss the Committee's priorities and upcoming opportunities for the year. If you have any questions or would like to suggest an item to be discussed on the call\, please contact Riley Smith at rsmith@usasean.org.
X-ALT-DESC;FMTTYPE=text/html:Please join us for the first Energy Committee Quarterly Call of 2018. During the call we will review the 2018 work plan and discuss the Committee&#39\;s priorities and upcoming opportunities for the year. If you have any questions or would like to suggest an item to be discussed on the call\, please contact Riley Smith at rsmith@usasean.org.
LOCATION:Dial in details will be provided to participants ahead of the call.
UID:e.9078.6438
SEQUENCE:3
DTSTAMP:20260419T144047Z
URL:http://memberzone.usasean.org/events/details/energy-committee-quarterly-call-6438
END:VEVENT

END:VCALENDAR
