BEGIN:VCALENDAR
VERSION:2.0
PRODID:-//ChamberMaster//Event Calendar 2.0//EN
METHOD:PUBLISH
X-PUBLISHED-TTL:P3D
REFRESH-INTERVAL:P3D
CALSCALE:GREGORIAN
BEGIN:VEVENT
DTSTART:20140205T130000Z
DTEND:20140205T140000Z
X-MICROSOFT-CDO-ALLDAYEVENT:FALSE
SUMMARY:Energy Committee Quarterly Call
DESCRIPTION:Please join us to discuss the Energy Committee's messaging\, priorities\, and programs for 2014.
X-ALT-DESC;FMTTYPE=text/html:<span style="font-size:14px\;">Please join us to discuss the Energy Committee&#39\;s messaging\, priorities\, and programs for 2014.&nbsp\;</span>
LOCATION:Conference call details will be distributed to registrants prior to the call.
UID:e.9078.1027
SEQUENCE:3
DTSTAMP:20260421T042531Z
URL:http://memberzone.usasean.org/events/details/energy-committee-quarterly-call-02-05-2014-1027
END:VEVENT

END:VCALENDAR
