BEGIN:VCALENDAR
VERSION:2.0
PRODID:-//ChamberMaster//Event Calendar 2.0//EN
METHOD:PUBLISH
X-PUBLISHED-TTL:P3D
REFRESH-INTERVAL:P3D
CALSCALE:GREGORIAN
BEGIN:VEVENT
DTSTART:20200625T124500Z
DTEND:20200625T134500Z
X-MICROSOFT-CDO-ALLDAYEVENT:FALSE
SUMMARY:Energy Committee Call with Briefing by USTDA
DESCRIPTION:US-ABC Energy Committee Call\n		\n		\n			Featuring a briefing\n\n			by\n\n			\n\n			Shannon Roe\n\n			Senior Country Manager\, Indo-Pacific\n\n			and\n\n			Verinda Fike\n\n			Regional Director\, Indo-Pacific\n\n			\n\n			U.S. Trade and Development Agency (USTDA)
X-ALT-DESC;FMTTYPE=text/html:<table align="center" border="0" cellpadding="0" cellspacing="0" style="width:650px\;" width="650">\n	<tbody>\n		<tr>\n			<td style="padding:15.0pt 0in 15.0pt 0in\;"><strong><span style="letter-spacing:.75pt\;border:none windowtext 1.0pt\;padding:0in\;"><span style="color:#333333\;"><span style="font-family:arial\,sans-serif\;"><span style="font-size:16.0pt\;">US-ABC Energy Committee Call</span></span></span></span></strong></td>\n		</tr>\n		<tr>\n			<td style="padding:0in 0in 0in 0in\;"><strong><span style="letter-spacing:.75pt\;border:none windowtext 1.0pt\;padding:0in\;"><span style="color:#333333\;"><span style="font-family:arial\,sans-serif\;"><span style="font-size:13.5pt\;">Featuring a briefing</span></span></span></span></strong><br />\n			<strong><span style="font-style:inherit\;font-variant:inherit\;font-weight:inherit\;font-stretch:inherit\;"><span style="letter-spacing:.75pt\;border:none windowtext 1.0pt\;padding:0in\;"><span style="color:#333333\;"><span style="font-family:arial\,sans-serif\;"><span style="font-size:13.5pt\;">by</span></span></span></span></span></strong><br />\n			<br />\n			<strong><span style="font-style:inherit\;font-variant:inherit\;font-weight:inherit\;font-stretch:inherit\;"><span style="letter-spacing:.75pt\;border:none windowtext 1.0pt\;padding:0in\;"><span style="color:#333333\;"><span style="font-family:arial\,sans-serif\;"><span style="font-size:13.5pt\;">Shannon Roe<br />\n			Senior Country Manager\, Indo-Pacific<br />\n			and<br />\n			Verinda Fike<br />\n			Regional Director\, Indo-Pacific<br />\n			<br />\n			U.S. Trade and Development Agency (USTDA)</span></span></span></span></span></strong><br />\n			<br />\n			&nbsp\;</td>\n		</tr>\n	</tbody>\n</table>\n\n<div style="clear:both\;">&nbsp\;</div>\n
LOCATION:Dial in details will be sent to registrants prior to the call.
UID:e.9078.8214
SEQUENCE:3
DTSTAMP:20260420T140647Z
URL:http://memberzone.usasean.org/events/details/energy-committee-call-with-briefing-by-ustda-8214
END:VEVENT

END:VCALENDAR
